BEGIN:VCALENDAR
VERSION:2.0
PRODID:-//Matt Quinton - ECPv6.15.20//NONSGML v1.0//EN
CALSCALE:GREGORIAN
METHOD:PUBLISH
X-WR-CALNAME:Matt Quinton
X-ORIGINAL-URL:https://www.mattquinton.com
X-WR-CALDESC:Events for Matt Quinton
REFRESH-INTERVAL;VALUE=DURATION:PT1H
X-Robots-Tag:noindex
X-PUBLISHED-TTL:PT1H
BEGIN:VTIMEZONE
TZID:UTC
BEGIN:STANDARD
TZOFFSETFROM:+0000
TZOFFSETTO:+0000
TZNAME:UTC
DTSTART:20250101T000000
END:STANDARD
END:VTIMEZONE
BEGIN:VEVENT
DTSTART;TZID=UTC:20260417T190000
DTEND;TZID=UTC:20260417T230000
DTSTAMP:20260421T083116
CREATED:20260303T005732Z
LAST-MODIFIED:20260303T005732Z
UID:2597-1776452400-1776466800@www.mattquinton.com
SUMMARY:NALU DEWEY  Dewey Beach\, DE
DESCRIPTION:
URL:https://www.mattquinton.com/show/nalu-dewey-dewey-beach-de-7/
LOCATION:Nalu Dewey Beach\, 1308 Coastal Hwy\,\, Dewey Beach\, DE\, 19971\, United States
END:VEVENT
END:VCALENDAR